Workbook
Name 支出: 年間集計!$C$10:$C$45
Name 収入: 年間集計!$C$4:$C$8

Sheet 年間集計
B1: 年間集計表
C3: 費目 | D3: 1 | E3: 2 | F3: 3 | G3: 4 | H3: 5 | I3: 6 | J3: 7 | K3: 8 | L3: 9 | M3: 10 | N3: 11 | O3: 12 | P3: 合計
B4: 収入 | C4: 年金 | D4: =SUMIFS(明細[金額],明細[費目],年間集計!$C4,明細[月],年間集計!D$3) -> 200000 | E4: =SUMIFS(明細[金額],明細[費目],年間集計!$C4,明細[月],年間集計!E$3) -> 0 | F4: =SUMIFS(明細[金額],明細[費目],年間集計!$C4,明細[月],年間集計!F$3) -> 0 | G4: =SUMIFS(明細[金額],明細[費目],年間集計!$C4,明細[月],年間集計!G$3) -> 0 | H4: =SUMIFS(明細[金額],明細[費目],年間集計!$C4,明細[月],年間集計!H$3) -> 0 | I4: =SUMIFS(明細[金額],明細[費目],年間集計!$C4,明細[月],年間集計!I$3) -> 0 | J4: =SUMIFS(明細[金額],明細[費目],年間集計!$C4,明細[月],年間集計!J$3) -> 0 | K4: =SUMIFS(明細[金額],明細[費目],年間集計!$C4,明細[月],年間集計!K$3) -> 200000 | ... O4: =SUMIFS(明細[金額],明細[費目],年間集計!$C4,明細[月],年間集計!O$3) -> 0 | P4: =SUM(D4:O4) -> 400000
C5: 配当 | D5: =SUMIFS(明細[金額],明細[費目],年間集計!$C5,明細[月],年間集計!D$3) -> 0 | E5: =SUMIFS(明細[金額],明細[費目],年間集計!$C5,明細[月],年間集計!E$3) -> 0 | F5: =SUMIFS(明細[金額],明細[費目],年間集計!$C5,明細[月],年間集計!F$3) -> 0 | G5: =SUMIFS(明細[金額],明細[費目],年間集計!$C5,明細[月],年間集計!G$3) -> 0 | H5: =SUMIFS(明細[金額],明細[費目],年間集計!$C5,明細[月],年間集計!H$3) -> 0 | I5: =SUMIFS(明細[金額],明細[費目],年間集計!$C5,明細[月],年間集計!I$3) -> 0 | J5: =SUMIFS(明細[金額],明細[費目],年間集計!$C5,明細[月],年間集計!J$3) -> 0 | K5: =SUMIFS(明細[金額],明細[費目],年間集計!$C5,明細[月],年間集計!K$3) -> 0 | ... O5: =SUMIFS(明細[金額],明細[費目],年間集計!$C5,明細[月],年間集計!O$3) -> 0 | P5: =SUM(D5:O5) -> 0
C6: 宝くじ | D6: =SUMIFS(明細[金額],明細[費目],年間集計!$C6,明細[月],年間集計!D$3) -> 0 | E6: =SUMIFS(明細[金額],明細[費目],年間集計!$C6,明細[月],年間集計!E$3) -> 0 | F6: =SUMIFS(明細[金額],明細[費目],年間集計!$C6,明細[月],年間集計!F$3) -> 0 | G6: =SUMIFS(明細[金額],明細[費目],年間集計!$C6,明細[月],年間集計!G$3) -> 0 | H6: =SUMIFS(明細[金額],明細[費目],年間集計!$C6,明細[月],年間集計!H$3) -> 0 | I6: =SUMIFS(明細[金額],明細[費目],年間集計!$C6,明細[月],年間集計!I$3) -> 0 | J6: =SUMIFS(明細[金額],明細[費目],年間集計!$C6,明細[月],年間集計!J$3) -> 0 | K6: =SUMIFS(明細[金額],明細[費目],年間集計!$C6,明細[月],年間集計!K$3) -> 0 | ... O6: =SUMIFS(明細[金額],明細[費目],年間集計!$C6,明細[月],年間集計!O$3) -> 0 | P6: =SUM(D6:O6) -> 1000
D7: =SUMIFS(明細[金額],明細[費目],年間集計!$C7,明細[月],年間集計!D$3) -> 0 | E7: =SUMIFS(明細[金額],明細[費目],年間集計!$C7,明細[月],年間集計!E$3) -> 0 | F7: =SUMIFS(明細[金額],明細[費目],年間集計!$C7,明細[月],年間集計!F$3) -> 0 | G7: =SUMIFS(明細[金額],明細[費目],年間集計!$C7,明細[月],年間集計!G$3) -> 0 | H7: =SUMIFS(明細[金額],明細[費目],年間集計!$C7,明細[月],年間集計!H$3) -> 0 | I7: =SUMIFS(明細[金額],明細[費目],年間集計!$C7,明細[月],年間集計!I$3) -> 0 | J7: =SUMIFS(明細[金額],明細[費目],年間集計!$C7,明細[月],年間集計!J$3) -> 0 | K7: =SUMIFS(明細[金額],明細[費目],年間集計!$C7,明細[月],年間集計!K$3) -> 0 | ... O7: =SUMIFS(明細[金額],明細[費目],年間集計!$C7,明細[月],年間集計!O$3) -> 0 | P7: =SUM(D7:O7) -> 0
C8: その他収入 | D8: =SUMIFS(明細[金額],明細[費目],年間集計!$C8,明細[月],年間集計!D$3) -> 0 | E8: =SUMIFS(明細[金額],明細[費目],年間集計!$C8,明細[月],年間集計!E$3) -> 0 | F8: =SUMIFS(明細[金額],明細[費目],年間集計!$C8,明細[月],年間集計!F$3) -> 0 | G8: =SUMIFS(明細[金額],明細[費目],年間集計!$C8,明細[月],年間集計!G$3) -> 0 | H8: =SUMIFS(明細[金額],明細[費目],年間集計!$C8,明細[月],年間集計!H$3) -> 0 | I8: =SUMIFS(明細[金額],明細[費目],年間集計!$C8,明細[月],年間集計!I$3) -> 0 | J8: =SUMIFS(明細[金額],明細[費目],年間集計!$C8,明細[月],年間集計!J$3) -> 0 | K8: =SUMIFS(明細[金額],明細[費目],年間集計!$C8,明細[月],年間集計!K$3) -> 0 | ... O8: =SUMIFS(明細[金額],明細[費目],年間集計!$C8,明細[月],年間集計!O$3) -> 0 | P8: =SUM(D8:O8) -> 0
C9: 収入計 | D9: =SUM(D4:D8) -> 200000 | E9: =SUM(E4:E8) -> 0 | F9: =SUM(F4:F8) -> 0 | G9: =SUM(G4:G8) -> 0 | H9: =SUM(H4:H8) -> 0 | I9: =SUM(I4:I8) -> 0 | J9: =SUM(J4:J8) -> 0 | K9: =SUM(K4:K8) -> 200000 | ... O9: =SUM(O4:O8) -> 0 | P9: =SUM(D9:O9) -> 401000
B10: 支出 | C10: 食費 | D10: =SUMIFS(明細[金額],明細[費目],年間集計!$C10,明細[月],年間集計!D$3) -> 2100 | E10: =SUMIFS(明細[金額],明細[費目],年間集計!$C10,明細[月],年間集計!E$3) -> 0 | F10: =SUMIFS(明細[金額],明細[費目],年間集計!$C10,明細[月],年間集計!F$3) -> 0 | G10: =SUMIFS(明細[金額],明細[費目],年間集計!$C10,明細[月],年間集計!G$3) -> 0 | H10: =SUMIFS(明細[金額],明細[費目],年間集計!$C10,明細[月],年間集計!H$3) -> 0 | I10: =SUMIFS(明細[金額],明細[費目],年間集計!$C10,明細[月],年間集計!I$3) -> 0 | J10: =SUMIFS(明細[金額],明細[費目],年間集計!$C10,明細[月],年間集計!J$3) -> 0 | K10: =SUMIFS(明細[金額],明細[費目],年間集計!$C10,明細[月],年間集計!K$3) -> 0 | ... O10: =SUMIFS(明細[金額],明細[費目],年間集計!$C10,明細[月],年間集計!O$3) -> 0 | P10: =SUM(D10:O10) -> 2100
C11: 外食費 | D11: =SUMIFS(明細[金額],明細[費目],年間集計!$C11,明細[月],年間集計!D$3) -> 0 | E11: =SUMIFS(明細[金額],明細[費目],年間集計!$C11,明細[月],年間集計!E$3) -> 0 | F11: =SUMIFS(明細[金額],明細[費目],年間集計!$C11,明細[月],年間集計!F$3) -> 0 | G11: =SUMIFS(明細[金額],明細[費目],年間集計!$C11,明細[月],年間集計!G$3) -> 0 | H11: =SUMIFS(明細[金額],明細[費目],年間集計!$C11,明細[月],年間集計!H$3) -> 0 | I11: =SUMIFS(明細[金額],明細[費目],年間集計!$C11,明細[月],年間集計!I$3) -> 0 | J11: =SUMIFS(明細[金額],明細[費目],年間集計!$C11,明細[月],年間集計!J$3) -> 0 | K11: =SUMIFS(明細[金額],明細[費目],年間集計!$C11,明細[月],年間集計!K$3) -> 0 | ... O11: =SUMIFS(明細[金額],明細[費目],年間集計!$C11,明細[月],年間集計!O$3) -> 0 | P11: =SUM(D11:O11) -> 0
C12: 電気代 | D12: =SUMIFS(明細[金額],明細[費目],年間集計!$C12,明細[月],年間集計!D$3) -> 0 | E12: =SUMIFS(明細[金額],明細[費目],年間集計!$C12,明細[月],年間集計!E$3) -> 0 | F12: =SUMIFS(明細[金額],明細[費目],年間集計!$C12,明細[月],年間集計!F$3) -> 0 | G12: =SUMIFS(明細[金額],明細[費目],年間集計!$C12,明細[月],年間集計!G$3) -> 0 | H12: =SUMIFS(明細[金額],明細[費目],年間集計!$C12,明細[月],年間集計!H$3) -> 0 | I12: =SUMIFS(明細[金額],明細[費目],年間集計!$C12,明細[月],年間集計!I$3) -> 0 | J12: =SUMIFS(明細[金額],明細[費目],年間集計!$C12,明細[月],年間集計!J$3) -> 0 | K12: =SUMIFS(明細[金額],明細[費目],年間集計!$C12,明細[月],年間集計!K$3) -> 0 | ... O12: =SUMIFS(明細[金額],明細[費目],年間集計!$C12,明細[月],年間集計!O$3) -> 0 | P12: =SUM(D12:O12) -> 0
C13: ガス代 | D13: =SUMIFS(明細[金額],明細[費目],年間集計!$C13,明細[月],年間集計!D$3) -> 1200 | E13: =SUMIFS(明細[金額],明細[費目],年間集計!$C13,明細[月],年間集計!E$3) -> 0 | F13: =SUMIFS(明細[金額],明細[費目],年間集計!$C13,明細[月],年間集計!F$3) -> 0 | G13: =SUMIFS(明細[金額],明細[費目],年間集計!$C13,明細[月],年間集計!G$3) -> 0 | H13: =SUMIFS(明細[金額],明細[費目],年間集計!$C13,明細[月],年間集計!H$3) -> 2100 | I13: =SUMIFS(明細[金額],明細[費目],年間集計!$C13,明細[月],年間集計!I$3) -> 0 | J13: =SUMIFS(明細[金額],明細[費目],年間集計!$C13,明細[月],年間集計!J$3) -> 0 | K13: =SUMIFS(明細[金額],明細[費目],年間集計!$C13,明細[月],年間集計!K$3) -> 0 | ... O13: =SUMIFS(明細[金額],明細[費目],年間集計!$C13,明細[月],年間集計!O$3) -> 0 | P13: =SUM(D13:O13) -> 3300
C14: 水道代 | D14: =SUMIFS(明細[金額],明細[費目],年間集計!$C14,明細[月],年間集計!D$3) -> 0 | E14: =SUMIFS(明細[金額],明細[費目],年間集計!$C14,明細[月],年間集計!E$3) -> 0 | F14: =SUMIFS(明細[金額],明細[費目],年間集計!$C14,明細[月],年間集計!F$3) -> 0 | G14: =SUMIFS(明細[金額],明細[費目],年間集計!$C14,明細[月],年間集計!G$3) -> 3200 | H14: =SUMIFS(明細[金額],明細[費目],年間集計!$C14,明細[月],年間集計!H$3) -> 0 | I14: =SUMIFS(明細[金額],明細[費目],年間集計!$C14,明細[月],年間集計!I$3) -> 0 | J14: =SUMIFS(明細[金額],明細[費目],年間集計!$C14,明細[月],年間集計!J$3) -> 0 | K14: =SUMIFS(明細[金額],明細[費目],年間集計!$C14,明細[月],年間集計!K$3) -> 0 | ... O14: =SUMIFS(明細[金額],明細[費目],年間集計!$C14,明細[月],年間集計!O$3) -> 0 | P14: =SUM(D14:O14) -> 3200
C15: 電話・ネット代 | D15: =SUMIFS(明細[金額],明細[費目],年間集計!$C15,明細[月],年間集計!D$3) -> 0 | E15: =SUMIFS(明細[金額],明細[費目],年間集計!$C15,明細[月],年間集計!E$3) -> 0 | F15: =SUMIFS(明細[金額],明細[費目],年間集計!$C15,明細[月],年間集計!F$3) -> 0 | G15: =SUMIFS(明細[金額],明細[費目],年間集計!$C15,明細[月],年間集計!G$3) -> 0 | H15: =SUMIFS(明細[金額],明細[費目],年間集計!$C15,明細[月],年間集計!H$3) -> 0 | I15: =SUMIFS(明細[金額],明細[費目],年間集計!$C15,明細[月],年間集計!I$3) -> 0 | J15: =SUMIFS(明細[金額],明細[費目],年間集計!$C15,明細[月],年間集計!J$3) -> 0 | K15: =SUMIFS(明細[金額],明細[費目],年間集計!$C15,明細[月],年間集計!K$3) -> 0 | ... O15: =SUMIFS(明細[金額],明細[費目],年間集計!$C15,明細[月],年間集計!O$3) -> 0 | P15: =SUM(D15:O15) -> 0
C16: 衣服 | D16: =SUMIFS(明細[金額],明細[費目],年間集計!$C16,明細[月],年間集計!D$3) -> 0 | E16: =SUMIFS(明細[金額],明細[費目],年間集計!$C16,明細[月],年間集計!E$3) -> 0 | F16: =SUMIFS(明細[金額],明細[費目],年間集計!$C16,明細[月],年間集計!F$3) -> 0 | G16: =SUMIFS(明細[金額],明細[費目],年間集計!$C16,明細[月],年間集計!G$3) -> 0 | H16: =SUMIFS(明細[金額],明細[費目],年間集計!$C16,明細[月],年間集計!H$3) -> 0 | I16: =SUMIFS(明細[金額],明細[費目],年間集計!$C16,明細[月],年間集計!I$3) -> 0 | J16: =SUMIFS(明細[金額],明細[費目],年間集計!$C16,明細[月],年間集計!J$3) -> 0 | K16: =SUMIFS(明細[金額],明細[費目],年間集計!$C16,明細[月],年間集計!K$3) -> 0 | ... O16: =SUMIFS(明細[金額],明細[費目],年間集計!$C16,明細[月],年間集計!O$3) -> 21000 | P16: =SUM(D16:O16) -> 26600
C17: 住宅 | D17: =SUMIFS(明細[金額],明細[費目],年間集計!$C17,明細[月],年間集計!D$3) -> 0 | E17: =SUMIFS(明細[金額],明細[費目],年間集計!$C17,明細[月],年間集計!E$3) -> 0 | F17: =SUMIFS(明細[金額],明細[費目],年間集計!$C17,明細[月],年間集計!F$3) -> 0 | G17: =SUMIFS(明細[金額],明細[費目],年間集計!$C17,明細[月],年間集計!G$3) -> 0 | H17: =SUMIFS(明細[金額],明細[費目],年間集計!$C17,明細[月],年間集計!H$3) -> 0 | I17: =SUMIFS(明細[金額],明細[費目],年間集計!$C17,明細[月],年間集計!I$3) -> 5430 | J17: =SUMIFS(明細[金額],明細[費目],年間集計!$C17,明細[月],年間集計!J$3) -> 0 | K17: =SUMIFS(明細[金額],明細[費目],年間集計!$C17,明細[月],年間集計!K$3) -> 0 | ... O17: =SUMIFS(明細[金額],明細[費目],年間集計!$C17,明細[月],年間集計!O$3) -> 0 | P17: =SUM(D17:O17) -> 5430
C18: 趣味・娯楽 | D18: =SUMIFS(明細[金額],明細[費目],年間集計!$C18,明細[月],年間集計!D$3) -> 0 | E18: =SUMIFS(明細[金額],明細[費目],年間集計!$C18,明細[月],年間集計!E$3) -> 2100 | F18: =SUMIFS(明細[金額],明細[費目],年間集計!$C18,明細[月],年間集計!F$3) -> 0 | G18: =SUMIFS(明細[金額],明細[費目],年間集計!$C18,明細[月],年間集計!G$3) -> 0 | H18: =SUMIFS(明細[金額],明細[費目],年間集計!$C18,明細[月],年間集計!H$3) -> 0 | I18: =SUMIFS(明細[金額],明細[費目],年間集計!$C18,明細[月],年間集計!I$3) -> 0 | J18: =SUMIFS(明細[金額],明細[費目],年間集計!$C18,明細[月],年間集計!J$3) -> 0 | K18: =SUMIFS(明細[金額],明細[費目],年間集計!$C18,明細[月],年間集計!K$3) -> 0 | ... O18: =SUMIFS(明細[金額],明細[費目],年間集計!$C18,明細[月],年間集計!O$3) -> 3200 | P18: =SUM(D18:O18) -> 5300
C19: 教養 | D19: =SUMIFS(明細[金額],明細[費目],年間集計!$C19,明細[月],年間集計!D$3) -> 0 | E19: =SUMIFS(明細[金額],明細[費目],年間集計!$C19,明細[月],年間集計!E$3) -> 0 | F19: =SUMIFS(明細[金額],明細[費目],年間集計!$C19,明細[月],年間集計!F$3) -> 0 | G19: =SUMIFS(明細[金額],明細[費目],年間集計!$C19,明細[月],年間集計!G$3) -> 0 | H19: =SUMIFS(明細[金額],明細[費目],年間集計!$C19,明細[月],年間集計!H$3) -> 0 | I19: =SUMIFS(明細[金額],明細[費目],年間集計!$C19,明細[月],年間集計!I$3) -> 0 | J19: =SUMIFS(明細[金額],明細[費目],年間集計!$C19,明細[月],年間集計!J$3) -> 0 | K19: =SUMIFS(明細[金額],明細[費目],年間集計!$C19,明細[月],年間集計!K$3) -> 0 | ... O19: =SUMIFS(明細[金額],明細[費目],年間集計!$C19,明細[月],年間集計!O$3) -> 0 | P19: =SUM(D19:O19) -> 0
C20: 税・社会保障 | D20: =SUMIFS(明細[金額],明細[費目],年間集計!$C20,明細[月],年間集計!D$3) -> 0 | E20: =SUMIFS(明細[金額],明細[費目],年間集計!$C20,明細[月],年間集計!E$3) -> 0 | F20: =SUMIFS(明細[金額],明細[費目],年間集計!$C20,明細[月],年間集計!F$3) -> 0 | G20: =SUMIFS(明細[金額],明細[費目],年間集計!$C20,明細[月],年間集計!G$3) -> 0 | H20: =SUMIFS(明細[金額],明細[費目],年間集計!$C20,明細[月],年間集計!H$3) -> 0 | I20: =SUMIFS(明細[金額],明細[費目],年間集計!$C20,明細[月],年間集計!I$3) -> 0 | J20: =SUMIFS(明細[金額],明細[費目],年間集計!$C20,明細[月],年間集計!J$3) -> 0 | K20: =SUMIFS(明細[金額],明細[費目],年間集計!$C20,明細[月],年間集計!K$3) -> 0 | ... O20: =SUMIFS(明細[金額],明細[費目],年間集計!$C20,明細[月],年間集計!O$3) -> 0 | P20: =SUM(D20:O20) -> 0
C21: 保険 | D21: =SUMIFS(明細[金額],明細[費目],年間集計!$C21,明細[月],年間集計!D$3) -> 0 | E21: =SUMIFS(明細[金額],明細[費目],年間集計!$C21,明細[月],年間集計!E$3) -> 0 | F21: =SUMIFS(明細[金額],明細[費目],年間集計!$C21,明細[月],年間集計!F$3) -> 0 | G21: =SUMIFS(明細[金額],明細[費目],年間集計!$C21,明細[月],年間集計!G$3) -> 0 | H21: =SUMIFS(明細[金額],明細[費目],年間集計!$C21,明細[月],年間集計!H$3) -> 0 | I21: =SUMIFS(明細[金額],明細[費目],年間集計!$C21,明細[月],年間集計!I$3) -> 0 | J21: =SUMIFS(明細[金額],明細[費目],年間集計!$C21,明細[月],年間集計!J$3) -> 0 | K21: =SUMIFS(明細[金額],明細[費目],年間集計!$C21,明細[月],年間集計!K$3) -> 0 | ... O21: =SUMIFS(明細[金額],明細[費目],年間集計!$C21,明細[月],年間集計!O$3) -> 0 | P21: =SUM(D21:O21) -> 0
C22: 自動車 | D22: =SUMIFS(明細[金額],明細[費目],年間集計!$C22,明細[月],年間集計!D$3) -> 0 | E22: =SUMIFS(明細[金額],明細[費目],年間集計!$C22,明細[月],年間集計!E$3) -> 0 | F22: =SUMIFS(明細[金額],明細[費目],年間集計!$C22,明細[月],年間集計!F$3) -> 2000 | G22: =SUMIFS(明細[金額],明細[費目],年間集計!$C22,明細[月],年間集計!G$3) -> 0 | H22: =SUMIFS(明細[金額],明細[費目],年間集計!$C22,明細[月],年間集計!H$3) -> 0 | I22: =SUMIFS(明細[金額],明細[費目],年間集計!$C22,明細[月],年間集計!I$3) -> 0 | J22: =SUMIFS(明細[金額],明細[費目],年間集計!$C22,明細[月],年間集計!J$3) -> 0 | K22: =SUMIFS(明細[金額],明細[費目],年間集計!$C22,明細[月],年間集計!K$3) -> 0 | ... O22: =SUMIFS(明細[金額],明細[費目],年間集計!$C22,明細[月],年間集計!O$3) -> 0 | P22: =SUM(D22:O22) -> 2000
D23: =SUMIFS(明細[金額],明細[費目],年間集計!$C23,明細[月],年間集計!D$3) -> 0 | E23: =SUMIFS(明細[金額],明細[費目],年間集計!$C23,明細[月],年間集計!E$3) -> 0 | F23: =SUMIFS(明細[金額],明細[費目],年間集計!$C23,明細[月],年間集計!F$3) -> 0 | G23: =SUMIFS(明細[金額],明細[費目],年間集計!$C23,明細[月],年間集計!G$3) -> 0 | H23: =SUMIFS(明細[金額],明細[費目],年間集計!$C23,明細[月],年間集計!H$3) -> 0 | I23: =SUMIFS(明細[金額],明細[費目],年間集計!$C23,明細[月],年間集計!I$3) -> 0 | J23: =SUMIFS(明細[金額],明細[費目],年間集計!$C23,明細[月],年間集計!J$3) -> 0 | K23: =SUMIFS(明細[金額],明細[費目],年間集計!$C23,明細[月],年間集計!K$3) -> 0 | ... O23: =SUMIFS(明細[金額],明細[費目],年間集計!$C23,明細[月],年間集計!O$3) -> 0 | P23: =SUM(D23:O23) -> 0
D24: =SUMIFS(明細[金額],明細[費目],年間集計!$C24,明細[月],年間集計!D$3) -> 0 | E24: =SUMIFS(明細[金額],明細[費目],年間集計!$C24,明細[月],年間集計!E$3) -> 0 | F24: =SUMIFS(明細[金額],明細[費目],年間集計!$C24,明細[月],年間集計!F$3) -> 0 | G24: =SUMIFS(明細[金額],明細[費目],年間集計!$C24,明細[月],年間集計!G$3) -> 0 | H24: =SUMIFS(明細[金額],明細[費目],年間集計!$C24,明細[月],年間集計!H$3) -> 0 | I24: =SUMIFS(明細[金額],明細[費目],年間集計!$C24,明細[月],年間集計!I$3) -> 0 | J24: =SUMIFS(明細[金額],明細[費目],年間集計!$C24,明細[月],年間集計!J$3) -> 0 | K24: =SUMIFS(明細[金額],明細[費目],年間集計!$C24,明細[月],年間集計!K$3) -> 0 | ... O24: =SUMIFS(明細[金額],明細[費目],年間集計!$C24,明細[月],年間集計!O$3) -> 0 | P24: =SUM(D24:O24) -> 0
D25: =SUMIFS(明細[金額],明細[費目],年間集計!$C25,明細[月],年間集計!D$3) -> 0 | E25: =SUMIFS(明細[金額],明細[費目],年間集計!$C25,明細[月],年間集計!E$3) -> 0 | F25: =SUMIFS(明細[金額],明細[費目],年間集計!$C25,明細[月],年間集計!F$3) -> 0 | G25: =SUMIFS(明細[金額],明細[費目],年間集計!$C25,明細[月],年間集計!G$3) -> 0 | H25: =SUMIFS(明細[金額],明細[費目],年間集計!$C25,明細[月],年間集計!H$3) -> 0 | I25: =SUMIFS(明細[金額],明細[費目],年間集計!$C25,明細[月],年間集計!I$3) -> 0 | J25: =SUMIFS(明細[金額],明細[費目],年間集計!$C25,明細[月],年間集計!J$3) -> 0 | K25: =SUMIFS(明細[金額],明細[費目],年間集計!$C25,明細[月],年間集計!K$3) -> 0 | ... O25: =SUMIFS(明細[金額],明細[費目],年間集計!$C25,明細[月],年間集計!O$3) -> 0 | P25: =SUM(D25:O25) -> 0
D26: =SUMIFS(明細[金額],明細[費目],年間集計!$C26,明細[月],年間集計!D$3) -> 0 | E26: =SUMIFS(明細[金額],明細[費目],年間集計!$C26,明細[月],年間集計!E$3) -> 0 | F26: =SUMIFS(明細[金額],明細[費目],年間集計!$C26,明細[月],年間集計!F$3) -> 0 | G26: =SUMIFS(明細[金額],明細[費目],年間集計!$C26,明細[月],年間集計!G$3) -> 0 | H26: =SUMIFS(明細[金額],明細[費目],年間集計!$C26,明細[月],年間集計!H$3) -> 0 | I26: =SUMIFS(明細[金額],明細[費目],年間集計!$C26,明細[月],年間集計!I$3) -> 0 | J26: =SUMIFS(明細[金額],明細[費目],年間集計!$C26,明細[月],年間集計!J$3) -> 0 | K26: =SUMIFS(明細[金額],明細[費目],年間集計!$C26,明細[月],年間集計!K$3) -> 0 | ... O26: =SUMIFS(明細[金額],明細[費目],年間集計!$C26,明細[月],年間集計!O$3) -> 0 | P26: =SUM(D26:O26) -> 0
D27: =SUMIFS(明細[金額],明細[費目],年間集計!$C27,明細[月],年間集計!D$3) -> 0 | E27: =SUMIFS(明細[金額],明細[費目],年間集計!$C27,明細[月],年間集計!E$3) -> 0 | F27: =SUMIFS(明細[金額],明細[費目],年間集計!$C27,明細[月],年間集計!F$3) -> 0 | G27: =SUMIFS(明細[金額],明細[費目],年間集計!$C27,明細[月],年間集計!G$3) -> 0 | H27: =SUMIFS(明細[金額],明細[費目],年間集計!$C27,明細[月],年間集計!H$3) -> 0 | I27: =SUMIFS(明細[金額],明細[費目],年間集計!$C27,明細[月],年間集計!I$3) -> 0 | J27: =SUMIFS(明細[金額],明細[費目],年間集計!$C27,明細[月],年間集計!J$3) -> 0 | K27: =SUMIFS(明細[金額],明細[費目],年間集計!$C27,明細[月],年間集計!K$3) -> 0 | ... O27: =SUMIFS(明細[金額],明細[費目],年間集計!$C27,明細[月],年間集計!O$3) -> 0 | P27: =SUM(D27:O27) -> 0
D28: =SUMIFS(明細[金額],明細[費目],年間集計!$C28,明細[月],年間集計!D$3) -> 0 | E28: =SUMIFS(明細[金額],明細[費目],年間集計!$C28,明細[月],年間集計!E$3) -> 0 | F28: =SUMIFS(明細[金額],明細[費目],年間集計!$C28,明細[月],年間集計!F$3) -> 0 | G28: =SUMIFS(明細[金額],明細[費目],年間集計!$C28,明細[月],年間集計!G$3) -> 0 | H28: =SUMIFS(明細[金額],明細[費目],年間集計!$C28,明細[月],年間集計!H$3) -> 0 | I28: =SUMIFS(明細[金額],明細[費目],年間集計!$C28,明細[月],年間集計!I$3) -> 0 | J28: =SUMIFS(明細[金額],明細[費目],年間集計!$C28,明細[月],年間集計!J$3) -> 0 | K28: =SUMIFS(明細[金額],明細[費目],年間集計!$C28,明細[月],年間集計!K$3) -> 0 | ... O28: =SUMIFS(明細[金額],明細[費目],年間集計!$C28,明細[月],年間集計!O$3) -> 0 | P28: =SUM(D28:O28) -> 0
D29: =SUMIFS(明細[金額],明細[費目],年間集計!$C29,明細[月],年間集計!D$3) -> 0 | E29: =SUMIFS(明細[金額],明細[費目],年間集計!$C29,明細[月],年間集計!E$3) -> 0 | F29: =SUMIFS(明細[金額],明細[費目],年間集計!$C29,明細[月],年間集計!F$3) -> 0 | G29: =SUMIFS(明細[金額],明細[費目],年間集計!$C29,明細[月],年間集計!G$3) -> 0 | H29: =SUMIFS(明細[金額],明細[費目],年間集計!$C29,明細[月],年間集計!H$3) -> 0 | I29: =SUMIFS(明細[金額],明細[費目],年間集計!$C29,明細[月],年間集計!I$3) -> 0 | J29: =SUMIFS(明細[金額],明細[費目],年間集計!$C29,明細[月],年間集計!J$3) -> 0 | K29: =SUMIFS(明細[金額],明細[費目],年間集計!$C29,明細[月],年間集計!K$3) -> 0 | ... O29: =SUMIFS(明細[金額],明細[費目],年間集計!$C29,明細[月],年間集計!O$3) -> 0 | P29: =SUM(D29:O29) -> 0
D30: =SUMIFS(明細[金額],明細[費目],年間集計!$C30,明細[月],年間集計!D$3) -> 0 | E30: =SUMIFS(明細[金額],明細[費目],年間集計!$C30,明細[月],年間集計!E$3) -> 0 | F30: =SUMIFS(明細[金額],明細[費目],年間集計!$C30,明細[月],年間集計!F$3) -> 0 | G30: =SUMIFS(明細[金額],明細[費目],年間集計!$C30,明細[月],年間集計!G$3) -> 0 | H30: =SUMIFS(明細[金額],明細[費目],年間集計!$C30,明細[月],年間集計!H$3) -> 0 | I30: =SUMIFS(明細[金額],明細[費目],年間集計!$C30,明細[月],年間集計!I$3) -> 0 | J30: =SUMIFS(明細[金額],明細[費目],年間集計!$C30,明細[月],年間集計!J$3) -> 0 | K30: =SUMIFS(明細[金額],明細[費目],年間集計!$C30,明細[月],年間集計!K$3) -> 0 | ... O30: =SUMIFS(明細[金額],明細[費目],年間集計!$C30,明細[月],年間集計!O$3) -> 0 | P30: =SUM(D30:O30) -> 0
D31: =SUMIFS(明細[金額],明細[費目],年間集計!$C31,明細[月],年間集計!D$3) -> 0 | E31: =SUMIFS(明細[金額],明細[費目],年間集計!$C31,明細[月],年間集計!E$3) -> 0 | F31: =SUMIFS(明細[金額],明細[費目],年間集計!$C31,明細[月],年間集計!F$3) -> 0 | G31: =SUMIFS(明細[金額],明細[費目],年間集計!$C31,明細[月],年間集計!G$3) -> 0 | H31: =SUMIFS(明細[金額],明細[費目],年間集計!$C31,明細[月],年間集計!H$3) -> 0 | I31: =SUMIFS(明細[金額],明細[費目],年間集計!$C31,明細[月],年間集計!I$3) -> 0 | J31: =SUMIFS(明細[金額],明細[費目],年間集計!$C31,明細[月],年間集計!J$3) -> 0 | K31: =SUMIFS(明細[金額],明細[費目],年間集計!$C31,明細[月],年間集計!K$3) -> 0 | ... O31: =SUMIFS(明細[金額],明細[費目],年間集計!$C31,明細[月],年間集計!O$3) -> 0 | P31: =SUM(D31:O31) -> 0
D32: =SUMIFS(明細[金額],明細[費目],年間集計!$C32,明細[月],年間集計!D$3) -> 0 | E32: =SUMIFS(明細[金額],明細[費目],年間集計!$C32,明細[月],年間集計!E$3) -> 0 | F32: =SUMIFS(明細[金額],明細[費目],年間集計!$C32,明細[月],年間集計!F$3) -> 0 | G32: =SUMIFS(明細[金額],明細[費目],年間集計!$C32,明細[月],年間集計!G$3) -> 0 | H32: =SUMIFS(明細[金額],明細[費目],年間集計!$C32,明細[月],年間集計!H$3) -> 0 | I32: =SUMIFS(明細[金額],明細[費目],年間集計!$C32,明細[月],年間集計!I$3) -> 0 | J32: =SUMIFS(明細[金額],明細[費目],年間集計!$C32,明細[月],年間集計!J$3) -> 0 | K32: =SUMIFS(明細[金額],明細[費目],年間集計!$C32,明細[月],年間集計!K$3) -> 0 | ... O32: =SUMIFS(明細[金額],明細[費目],年間集計!$C32,明細[月],年間集計!O$3) -> 0 | P32: =SUM(D32:O32) -> 0
D33: =SUMIFS(明細[金額],明細[費目],年間集計!$C33,明細[月],年間集計!D$3) -> 0 | E33: =SUMIFS(明細[金額],明細[費目],年間集計!$C33,明細[月],年間集計!E$3) -> 0 | F33: =SUMIFS(明細[金額],明細[費目],年間集計!$C33,明細[月],年間集計!F$3) -> 0 | G33: =SUMIFS(明細[金額],明細[費目],年間集計!$C33,明細[月],年間集計!G$3) -> 0 | H33: =SUMIFS(明細[金額],明細[費目],年間集計!$C33,明細[月],年間集計!H$3) -> 0 | I33: =SUMIFS(明細[金額],明細[費目],年間集計!$C33,明細[月],年間集計!I$3) -> 0 | J33: =SUMIFS(明細[金額],明細[費目],年間集計!$C33,明細[月],年間集計!J$3) -> 0 | K33: =SUMIFS(明細[金額],明細[費目],年間集計!$C33,明細[月],年間集計!K$3) -> 0 | ... O33: =SUMIFS(明細[金額],明細[費目],年間集計!$C33,明細[月],年間集計!O$3) -> 0 | P33: =SUM(D33:O33) -> 0
D34: =SUMIFS(明細[金額],明細[費目],年間集計!$C34,明細[月],年間集計!D$3) -> 0 | E34: =SUMIFS(明細[金額],明細[費目],年間集計!$C34,明細[月],年間集計!E$3) -> 0 | F34: =SUMIFS(明細[金額],明細[費目],年間集計!$C34,明細[月],年間集計!F$3) -> 0 | G34: =SUMIFS(明細[金額],明細[費目],年間集計!$C34,明細[月],年間集計!G$3) -> 0 | H34: =SUMIFS(明細[金額],明細[費目],年間集計!$C34,明細[月],年間集計!H$3) -> 0 | I34: =SUMIFS(明細[金額],明細[費目],年間集計!$C34,明細[月],年間集計!I$3) -> 0 | J34: =SUMIFS(明細[金額],明細[費目],年間集計!$C34,明細[月],年間集計!J$3) -> 0 | K34: =SUMIFS(明細[金額],明細[費目],年間集計!$C34,明細[月],年間集計!K$3) -> 0 | ... O34: =SUMIFS(明細[金額],明細[費目],年間集計!$C34,明細[月],年間集計!O$3) -> 0 | P34: =SUM(D34:O34) -> 0
... D44: =SUMIFS(明細[金額],明細[費目],年間集計!$C44,明細[月],年間集計!D$3) -> 0 | E44: =SUMIFS(明細[金額],明細[費目],年間集計!$C44,明細[月],年間集計!E$3) -> 0 | F44: =SUMIFS(明細[金額],明細[費目],年間集計!$C44,明細[月],年間集計!F$3) -> 0 | G44: =SUMIFS(明細[金額],明細[費目],年間集計!$C44,明細[月],年間集計!G$3) -> 0 | H44: =SUMIFS(明細[金額],明細[費目],年間集計!$C44,明細[月],年間集計!H$3) -> 0 | I44: =SUMIFS(明細[金額],明細[費目],年間集計!$C44,明細[月],年間集計!I$3) -> 0 | J44: =SUMIFS(明細[金額],明細[費目],年間集計!$C44,明細[月],年間集計!J$3) -> 0 | K44: =SUMIFS(明細[金額],明細[費目],年間集計!$C44,明細[月],年間集計!K$3) -> 0 | ... O44: =SUMIFS(明細[金額],明細[費目],年間集計!$C44,明細[月],年間集計!O$3) -> 0 | P44: =SUM(D44:O44) -> 0
C45: その他支出 | D45: =SUMIFS(明細[金額],明細[費目],年間集計!$C45,明細[月],年間集計!D$3) -> 0 | E45: =SUMIFS(明細[金額],明細[費目],年間集計!$C45,明細[月],年間集計!E$3) -> 0 | F45: =SUMIFS(明細[金額],明細[費目],年間集計!$C45,明細[月],年間集計!F$3) -> 0 | G45: =SUMIFS(明細[金額],明細[費目],年間集計!$C45,明細[月],年間集計!G$3) -> 0 | H45: =SUMIFS(明細[金額],明細[費目],年間集計!$C45,明細[月],年間集計!H$3) -> 0 | I45: =SUMIFS(明細[金額],明細[費目],年間集計!$C45,明細[月],年間集計!I$3) -> 0 | J45: =SUMIFS(明細[金額],明細[費目],年間集計!$C45,明細[月],年間集計!J$3) -> 0 | K45: =SUMIFS(明細[金額],明細[費目],年間集計!$C45,明細[月],年間集計!K$3) -> 0 | ... O45: =SUMIFS(明細[金額],明細[費目],年間集計!$C45,明細[月],年間集計!O$3) -> 0 | P45: =SUM(D45:O45) -> 0
C46: 支出計 | D46: =SUM(D10:D45) -> 3300 | E46: =SUM(E10:E45) -> 2100 | F46: =SUM(F10:F45) -> 2000 | G46: =SUM(G10:G45) -> 3200 | H46: =SUM(H10:H45) -> 2100 | I46: =SUM(I10:I45) -> 5430 | J46: =SUM(J10:J45) -> 0 | K46: =SUM(K10:K45) -> 0 | ... O46: =SUM(O10:O45) -> 24200 | P46: =SUM(D46:O46) -> 47930
B47: 収支 | D47: =D9-D46 -> 196700 | E47: =E9-E46 -> -2100 | F47: =F9-F46 -> -2000 | G47: =G9-G46 -> -3200 | H47: =H9-H46 -> -2100 | I47: =I9-I46 -> -5430 | J47: =J9-J46 -> 0 | K47: =K9-K46 -> 200000 | ... P47: =P9-P46 -> 353070

Sheet 明細入力
B1: 明細入力
B3: 月 | C3: 日 | D3: 収入／支出 | E3: 費目 | F3: 金額 | G3: 摘要
B4: 1 | C4: 10 | D4: 支出 | E4: ガス代 | F4: 1200 | G4: 12月分
B5: 1 | C5: 12 | D5: 収入 | E5: 年金 | F5: 200000 | G5: 12月分
B6: 2 | C6: 10 | D6: 支出 | E6: 趣味・娯楽 | F6: 2100 | G6: 書籍
B7: 3 | C7: 2 | D7: 支出 | E7: 自動車 | F7: 2000 | G7: ガソリン
B8: 4 | C8: 3 | D8: 支出 | E8: 水道代 | F8: 3200
B9: 5 | C9: 12 | D9: 支出 | E9: ガス代 | F9: 2100
B10: 6 | C10: 23 | D10: 支出 | E10: 住宅 | F10: 5430 | G10: 修繕
B11: 8 | C11: 15 | D11: 収入 | E11: 年金 | F11: 200000
B12: 12 | C12: 21 | D12: 支出 | E12: 趣味・娯楽 | F12: 3200 | G12: コンサート
B13: 12 | C13: 31 | D13: 支出 | E13: 衣服 | F13: 21000 | G13: 防寒具
B14: 1 | C14: 10 | D14: 支出 | E14: 食費 | F14: 2100
B15: 11 | C15: 13 | D15: 支出 | E15: 衣服 | F15: 5600 | G15: セーター
B16: 11 | C16: 13 | D16: 収入 | E16: 宝くじ | F16: 1000
